Package: peco Version: 1.21.1 Command: rm -rf peco.buildbin-libdir && mkdir peco.buildbin-libdir && /Users/biocbuild/BBS/utils/build-universal.sh peco_1.21.1.tar.gz /Library/Frameworks/R.framework/Resources/bin/R peco.buildbin-libdir StartedAt: 2025-10-19 23:10:18 -0400 (Sun, 19 Oct 2025) EndedAt: 2025-10-19 23:10:30 -0400 (Sun, 19 Oct 2025) EllapsedTime: 12.3 seconds RetCode: 0 Status: OK PackageFile: peco_1.21.1.tgz PackageFileSize: 1.126 MiB