Package: peakPantheR Version: 1.23.3 Command: /home/biocbuild/bbs-3.22-bioc/R/bin/R CMD check --install=check:peakPantheR.install-out.txt --library=/home/biocbuild/bbs-3.22-bioc/R/site-library --timings peakPantheR_1.23.3.tar.gz StartedAt: 2025-10-21 03:05:23 -0400 (Tue, 21 Oct 2025) EndedAt: 2025-10-21 03:27:55 -0400 (Tue, 21 Oct 2025) EllapsedTime: 1352.2 seconds RetCode: 0 Status: OK CheckDir: peakPantheR.Rcheck Warnings: 0