Package: peakPantheR Version: 1.23.3 Command: /Library/Frameworks/R.framework/Resources/bin/R CMD check --install=check:peakPantheR.install-out.txt --library=/Library/Frameworks/R.framework/Resources/library --no-vignettes --timings peakPantheR_1.23.3.tar.gz StartedAt: 2025-10-01 21:03:57 -0400 (Wed, 01 Oct 2025) EndedAt: 2025-10-01 21:12:41 -0400 (Wed, 01 Oct 2025) EllapsedTime: 524.3 seconds RetCode: 0 Status: OK CheckDir: peakPantheR.Rcheck Warnings: 0