Package: peakCombiner Version: 0.99.602 Command: /Library/Frameworks/R.framework/Resources/bin/R CMD check --install=check:peakCombiner.install-out.txt --library=/Library/Frameworks/R.framework/Resources/library --no-vignettes --timings peakCombiner_0.99.602.tar.gz StartedAt: 2025-10-21 00:39:01 -0400 (Tue, 21 Oct 2025) EndedAt: 2025-10-21 00:40:57 -0400 (Tue, 21 Oct 2025) EllapsedTime: 116.6 seconds RetCode: 0 Status: OK CheckDir: peakCombiner.Rcheck Warnings: 0