Package: peakCombiner Version: 0.99.602 Command: /Library/Frameworks/R.framework/Resources/bin/R CMD build --keep-empty-dirs --no-resave-data peakCombiner StartedAt: 2025-10-20 18:44:52 -0400 (Mon, 20 Oct 2025) EndedAt: 2025-10-20 18:46:21 -0400 (Mon, 20 Oct 2025) EllapsedTime: 88.3 seconds RetCode: 0 Status: OK PackageFile: peakCombiner_0.99.602.tar.gz PackageFileSize: 367.9 KiB