Package: peakCombiner Version: 0.99.602 Command: rm -rf peakCombiner.buildbin-libdir && mkdir peakCombiner.buildbin-libdir && /Users/biocbuild/BBS/utils/build-universal.sh peakCombiner_0.99.602.tar.gz /Library/Frameworks/R.framework/Resources/bin/R peakCombiner.buildbin-libdir StartedAt: 2025-10-21 03:27:16 -0400 (Tue, 21 Oct 2025) EndedAt: 2025-10-21 03:27:25 -0400 (Tue, 21 Oct 2025) EllapsedTime: 9.2 seconds RetCode: 0 Status: OK PackageFile: peakCombiner_0.99.602.tgz PackageFileSize: 450.7 KiB