Package: peakCombiner Version: 0.99.602 Command: /Library/Frameworks/R.framework/Resources/bin/R CMD INSTALL peakCombiner StartedAt: 2025-10-20 15:10:29 -0400 (Mon, 20 Oct 2025) EndedAt: 2025-10-20 15:10:32 -0400 (Mon, 20 Oct 2025) EllapsedTime: 2.5 seconds RetCode: 0 Status: OK