Package: peakCombiner Version: 0.99.602 Command: /Library/Frameworks/R.framework/Resources/bin/R CMD check --install=check:peakCombiner.install-out.txt --library=/Library/Frameworks/R.framework/Resources/library --no-vignettes --timings peakCombiner_0.99.602.tar.gz StartedAt: 2025-10-20 21:16:00 -0400 (Mon, 20 Oct 2025) EndedAt: 2025-10-20 21:16:33 -0400 (Mon, 20 Oct 2025) EllapsedTime: 33.4 seconds RetCode: 0 Status: OK CheckDir: peakCombiner.Rcheck Warnings: 0