Package: peakCombiner Version: 0.99.602 Command: /Library/Frameworks/R.framework/Resources/bin/R CMD build --keep-empty-dirs --no-resave-data peakCombiner StartedAt: 2025-10-20 17:17:56 -0400 (Mon, 20 Oct 2025) EndedAt: 2025-10-20 17:18:12 -0400 (Mon, 20 Oct 2025) EllapsedTime: 15.1 seconds RetCode: 0 Status: OK PackageFile: peakCombiner_0.99.602.tar.gz PackageFileSize: 368.3 KiB