Package: peakCombiner Version: 0.99.602 Command: rm -rf peakCombiner.buildbin-libdir && mkdir peakCombiner.buildbin-libdir && /Users/biocbuild/BBS/utils/build-universal.sh peakCombiner_0.99.602.tar.gz /Library/Frameworks/R.framework/Resources/bin/R peakCombiner.buildbin-libdir StartedAt: 2025-10-20 23:11:14 -0400 (Mon, 20 Oct 2025) EndedAt: 2025-10-20 23:11:17 -0400 (Mon, 20 Oct 2025) EllapsedTime: 3.1 seconds RetCode: 0 Status: OK PackageFile: peakCombiner_0.99.602.tgz PackageFileSize: 452.9 KiB