Package: pcaExplorer Version: 3.4.0 Command: /Library/Frameworks/R.framework/Resources/bin/R CMD INSTALL pcaExplorer StartedAt: 2025-11-17 18:20:16 -0500 (Mon, 17 Nov 2025) EndedAt: 2025-11-17 18:20:37 -0500 (Mon, 17 Nov 2025) EllapsedTime: 20.8 seconds RetCode: 0 Status: OK