Package: pcaExplorer Version: 3.4.0 Command: /Library/Frameworks/R.framework/Resources/bin/R CMD build --keep-empty-dirs --no-resave-data pcaExplorer StartedAt: 2025-11-21 07:02:42 -0500 (Fri, 21 Nov 2025) EndedAt: 2025-11-21 07:05:12 -0500 (Fri, 21 Nov 2025) EllapsedTime: 150.1 seconds RetCode: 0 Status: OK PackageFile: pcaExplorer_3.4.0.tar.gz PackageFileSize: 10.77 MiB