Package: pathwayPCA Version: 1.26.0 Command: /home/biocbuild/R/R/bin/R CMD check --install=check:pathwayPCA.install-out.txt --library=/home/biocbuild/R/R/site-library --no-vignettes --timings pathwayPCA_1.26.0.tar.gz StartedAt: 2025-11-14 12:45:04 -0000 (Fri, 14 Nov 2025) EndedAt: 2025-11-14 12:48:15 -0000 (Fri, 14 Nov 2025) EllapsedTime: 190.3 seconds RetCode: 0 Status: OK CheckDir: pathwayPCA.Rcheck Warnings: 0