Package: pathwayPCA Version: 1.25.0 Command: F:\biocbuild\bbs-3.22-bioc\R\bin\R.exe CMD check --no-multiarch --install=check:pathwayPCA.install-out.txt --library=F:\biocbuild\bbs-3.22-bioc\R\library --no-vignettes --timings pathwayPCA_1.25.0.tar.gz StartedAt: 2025-08-15 06:15:21 -0400 (Fri, 15 Aug 2025) EndedAt: 2025-08-15 06:18:32 -0400 (Fri, 15 Aug 2025) EllapsedTime: 190.9 seconds RetCode: 0 Status: OK CheckDir: pathwayPCA.Rcheck Warnings: 0