Package: pathwayPCA Version: 1.26.0 Command: /home/biocbuild/bbs-3.22-bioc/R/bin/R CMD check --install=check:pathwayPCA.install-out.txt --library=/home/biocbuild/bbs-3.22-bioc/R/site-library --timings pathwayPCA_1.26.0.tar.gz StartedAt: 2025-11-15 02:50:55 -0500 (Sat, 15 Nov 2025) EndedAt: 2025-11-15 02:56:12 -0500 (Sat, 15 Nov 2025) EllapsedTime: 316.3 seconds RetCode: 0 Status: OK CheckDir: pathwayPCA.Rcheck Warnings: 0