Package: pathview Version: 1.49.0 Command: /home/biocbuild/R/R/bin/R CMD INSTALL pathview StartedAt: 2025-10-23 20:46:47 -0000 (Thu, 23 Oct 2025) EndedAt: 2025-10-23 20:47:11 -0000 (Thu, 23 Oct 2025) EllapsedTime: 24.6 seconds RetCode: 0 Status: OK