Package: pathview Version: 1.49.0 Command: chmod a+r pathview -R && F:\biocbuild\bbs-3.22-bioc\R\bin\R.exe CMD build --keep-empty-dirs --no-resave-data pathview StartedAt: 2025-08-14 22:13:15 -0400 (Thu, 14 Aug 2025) EndedAt: 2025-08-14 22:15:12 -0400 (Thu, 14 Aug 2025) EllapsedTime: 116.9 seconds RetCode: 0 Status: OK PackageFile: pathview_1.49.0.tar.gz PackageFileSize: 2.518 MiB