Package: pathview Version: 1.49.0 Command: /home/biocbuild/bbs-3.22-bioc/R/bin/R CMD INSTALL pathview StartedAt: 2025-10-19 15:27:00 -0400 (Sun, 19 Oct 2025) EndedAt: 2025-10-19 15:27:16 -0400 (Sun, 19 Oct 2025) EllapsedTime: 16.6 seconds RetCode: 0 Status: OK