Package: pathview Version: 1.49.0 Command: /home/biocbuild/bbs-3.22-bioc/R/bin/R CMD check --install=check:pathview.install-out.txt --library=/home/biocbuild/bbs-3.22-bioc/R/site-library --timings pathview_1.49.0.tar.gz StartedAt: 2025-10-20 03:07:30 -0400 (Mon, 20 Oct 2025) EndedAt: 2025-10-20 03:12:44 -0400 (Mon, 20 Oct 2025) EllapsedTime: 314.3 seconds RetCode: 0 Status: WARNINGS CheckDir: pathview.Rcheck Warnings: 1