Package: pathview Version: 1.49.0 Command: /Library/Frameworks/R.framework/Resources/bin/R CMD INSTALL pathview StartedAt: 2025-10-01 15:26:56 -0400 (Wed, 01 Oct 2025) EndedAt: 2025-10-01 15:27:21 -0400 (Wed, 01 Oct 2025) EllapsedTime: 25.6 seconds RetCode: 0 Status: OK