Package: pathview Version: 1.49.0 Command: /Library/Frameworks/R.framework/Resources/bin/R CMD check --install=check:pathview.install-out.txt --library=/Library/Frameworks/R.framework/Resources/library --no-vignettes --timings pathview_1.49.0.tar.gz StartedAt: 2025-10-01 23:23:14 -0400 (Wed, 01 Oct 2025) EndedAt: 2025-10-01 23:27:42 -0400 (Wed, 01 Oct 2025) EllapsedTime: 268.4 seconds RetCode: 0 Status: WARNINGS CheckDir: pathview.Rcheck Warnings: 1