Package: pathview Version: 1.49.0 Command: /Library/Frameworks/R.framework/Resources/bin/R CMD INSTALL pathview StartedAt: 2025-10-19 15:09:06 -0400 (Sun, 19 Oct 2025) EndedAt: 2025-10-19 15:09:13 -0400 (Sun, 19 Oct 2025) EllapsedTime: 6.9 seconds RetCode: 0 Status: OK