Package: pathview Version: 1.49.0 Command: /Library/Frameworks/R.framework/Resources/bin/R CMD check --install=check:pathview.install-out.txt --library=/Library/Frameworks/R.framework/Resources/library --no-vignettes --timings pathview_1.49.0.tar.gz StartedAt: 2025-10-19 21:12:34 -0400 (Sun, 19 Oct 2025) EndedAt: 2025-10-19 21:15:04 -0400 (Sun, 19 Oct 2025) EllapsedTime: 149.7 seconds RetCode: 0 Status: WARNINGS CheckDir: pathview.Rcheck Warnings: 1