Package: pathview Version: 1.49.0 Command: /Library/Frameworks/R.framework/Resources/bin/R CMD build --keep-empty-dirs --no-resave-data pathview StartedAt: 2025-10-19 17:16:53 -0400 (Sun, 19 Oct 2025) EndedAt: 2025-10-19 17:17:44 -0400 (Sun, 19 Oct 2025) EllapsedTime: 50.5 seconds RetCode: 0 Status: OK PackageFile: pathview_1.49.0.tar.gz PackageFileSize: 2.429 MiB