Package: pathview Version: 1.49.0 Command: rm -rf pathview.buildbin-libdir && mkdir pathview.buildbin-libdir && /Users/biocbuild/BBS/utils/build-universal.sh pathview_1.49.0.tar.gz /Library/Frameworks/R.framework/Resources/bin/R pathview.buildbin-libdir StartedAt: 2025-10-19 23:10:12 -0400 (Sun, 19 Oct 2025) EndedAt: 2025-10-19 23:10:20 -0400 (Sun, 19 Oct 2025) EllapsedTime: 8.2 seconds RetCode: 0 Status: OK PackageFile: pathview_1.49.0.tgz PackageFileSize: 2.73 MiB