Package: pathifier Version: 1.47.0 Command: /home/biocbuild/R/R/bin/R CMD check --install=check:pathifier.install-out.txt --library=/home/biocbuild/R/R/site-library --no-vignettes --timings pathifier_1.47.0.tar.gz StartedAt: 2025-10-17 12:02:13 -0000 (Fri, 17 Oct 2025) EndedAt: 2025-10-17 12:03:04 -0000 (Fri, 17 Oct 2025) EllapsedTime: 51.1 seconds RetCode: 0 Status: OK CheckDir: pathifier.Rcheck Warnings: 0