Package: pathifier Version: 1.47.0 Command: F:\biocbuild\bbs-3.22-bioc\R\bin\R.exe CMD check --no-multiarch --install=check:pathifier.install-out.txt --library=F:\biocbuild\bbs-3.22-bioc\R\library --no-vignettes --timings pathifier_1.47.0.tar.gz StartedAt: 2025-08-15 06:14:20 -0400 (Fri, 15 Aug 2025) EndedAt: 2025-08-15 06:15:19 -0400 (Fri, 15 Aug 2025) EllapsedTime: 59.1 seconds RetCode: 0 Status: OK CheckDir: pathifier.Rcheck Warnings: 0