Package: pathifier Version: 1.47.0 Command: /Library/Frameworks/R.framework/Resources/bin/R CMD INSTALL pathifier StartedAt: 2025-10-21 15:10:00 -0400 (Tue, 21 Oct 2025) EndedAt: 2025-10-21 15:11:05 -0400 (Tue, 21 Oct 2025) EllapsedTime: 64.7 seconds RetCode: 0 Status: OK