Package: pathifier Version: 1.47.0 Command: /Library/Frameworks/R.framework/Resources/bin/R CMD build --keep-empty-dirs --no-resave-data pathifier StartedAt: 2025-10-21 18:51:06 -0400 (Tue, 21 Oct 2025) EndedAt: 2025-10-21 18:53:29 -0400 (Tue, 21 Oct 2025) EllapsedTime: 143.0 seconds RetCode: 0 Status: OK PackageFile: pathifier_1.47.0.tar.gz PackageFileSize: 2.032 MiB