Package: pathifier Version: 1.47.0 Command: /Library/Frameworks/R.framework/Resources/bin/R CMD INSTALL pathifier StartedAt: 2025-10-20 15:03:17 -0400 (Mon, 20 Oct 2025) EndedAt: 2025-10-20 15:03:23 -0400 (Mon, 20 Oct 2025) EllapsedTime: 6.4 seconds RetCode: 0 Status: OK