Package: pathRender Version: 1.77.0 Command: F:\biocbuild\bbs-3.22-bioc\R\bin\R.exe CMD check --no-multiarch --install=check:pathRender.install-out.txt --library=F:\biocbuild\bbs-3.22-bioc\R\library --no-vignettes --timings pathRender_1.77.0.tar.gz StartedAt: 2025-08-15 06:14:41 -0400 (Fri, 15 Aug 2025) EndedAt: 2025-08-15 06:16:42 -0400 (Fri, 15 Aug 2025) EllapsedTime: 121.2 seconds RetCode: 0 Status: OK CheckDir: pathRender.Rcheck Warnings: 0