Package: partCNV Version: 1.7.0 Command: /home/biocbuild/R/R/bin/R CMD check --install=check:partCNV.install-out.txt --library=/home/biocbuild/R/R/site-library --no-vignettes --timings partCNV_1.7.0.tar.gz StartedAt: 2025-10-17 12:01:47 -0000 (Fri, 17 Oct 2025) EndedAt: 2025-10-17 12:10:03 -0000 (Fri, 17 Oct 2025) EllapsedTime: 495.7 seconds RetCode: 0 Status: OK CheckDir: partCNV.Rcheck Warnings: 0