Package: partCNV Version: 1.7.0 Command: /home/biocbuild/R/R/bin/R CMD build --keep-empty-dirs --no-resave-data partCNV StartedAt: 2025-10-21 01:57:21 -0000 (Tue, 21 Oct 2025) EndedAt: 2025-10-21 01:59:32 -0000 (Tue, 21 Oct 2025) EllapsedTime: 131.1 seconds RetCode: 0 Status: OK PackageFile: partCNV_1.7.0.tar.gz PackageFileSize: 4.556 MiB