Package: partCNV Version: 1.7.0 Command: F:\biocbuild\bbs-3.22-bioc\R\bin\R.exe CMD check --no-multiarch --install=check:partCNV.install-out.txt --library=F:\biocbuild\bbs-3.22-bioc\R\library --no-vignettes --timings partCNV_1.7.0.tar.gz StartedAt: 2025-08-15 06:13:49 -0400 (Fri, 15 Aug 2025) EndedAt: 2025-08-15 06:21:28 -0400 (Fri, 15 Aug 2025) EllapsedTime: 459.2 seconds RetCode: 0 Status: OK CheckDir: partCNV.Rcheck Warnings: 0