Package: partCNV Version: 1.8.0 Command: /home/biocbuild/bbs-3.22-bioc/R/bin/R CMD check --install=check:partCNV.install-out.txt --library=/home/biocbuild/bbs-3.22-bioc/R/site-library --timings partCNV_1.8.0.tar.gz StartedAt: 2025-10-31 02:30:08 -0400 (Fri, 31 Oct 2025) EndedAt: 2025-10-31 02:37:48 -0400 (Fri, 31 Oct 2025) EllapsedTime: 459.6 seconds RetCode: 0 Status: OK CheckDir: partCNV.Rcheck Warnings: 0