Package: partCNV Version: 1.8.0 Command: /Library/Frameworks/R.framework/Resources/bin/R CMD check --install=check:partCNV.install-out.txt --library=/Library/Frameworks/R.framework/Resources/library --no-vignettes --timings partCNV_1.8.0.tar.gz StartedAt: 2025-10-31 21:18:39 -0400 (Fri, 31 Oct 2025) EndedAt: 2025-10-31 21:20:58 -0400 (Fri, 31 Oct 2025) EllapsedTime: 138.6 seconds RetCode: 0 Status: OK CheckDir: partCNV.Rcheck Warnings: 0