Package: partCNV Version: 1.8.0 Command: rm -rf partCNV.buildbin-libdir && mkdir partCNV.buildbin-libdir && /Users/biocbuild/BBS/utils/build-universal.sh partCNV_1.8.0.tar.gz /Library/Frameworks/R.framework/Resources/bin/R partCNV.buildbin-libdir StartedAt: 2025-10-31 23:17:44 -0400 (Fri, 31 Oct 2025) EndedAt: 2025-10-31 23:18:02 -0400 (Fri, 31 Oct 2025) EllapsedTime: 18.5 seconds RetCode: 0 Status: OK PackageFile: partCNV_1.8.0.tgz PackageFileSize: 4.666 MiB