Package: parody Version: 1.67.0 Command: /home/biocbuild/R/R/bin/R CMD INSTALL parody StartedAt: 2025-10-23 20:18:11 -0000 (Thu, 23 Oct 2025) EndedAt: 2025-10-23 20:18:42 -0000 (Thu, 23 Oct 2025) EllapsedTime: 30.3 seconds RetCode: 0 Status: OK