Package: parody Version: 1.67.0 Command: rm -rf parody.buildbin-libdir && mkdir parody.buildbin-libdir && F:\biocbuild\bbs-3.22-bioc\R\bin\R.exe CMD INSTALL --build --library=parody.buildbin-libdir parody_1.67.0.tar.gz StartedAt: 2025-08-15 10:55:19 -0400 (Fri, 15 Aug 2025) EndedAt: 2025-08-15 10:55:30 -0400 (Fri, 15 Aug 2025) EllapsedTime: 10.3 seconds RetCode: 0 Status: OK PackageFile: parody_1.67.0.zip PackageFileSize: 351.6 KiB