Package: parody Version: 1.68.0 Command: /Library/Frameworks/R.framework/Resources/bin/R CMD check --install=check:parody.install-out.txt --library=/Library/Frameworks/R.framework/Resources/library --no-vignettes --timings parody_1.68.0.tar.gz StartedAt: 2025-11-06 21:15:08 -0500 (Thu, 06 Nov 2025) EndedAt: 2025-11-06 21:15:19 -0500 (Thu, 06 Nov 2025) EllapsedTime: 11.2 seconds RetCode: 0 Status: OK CheckDir: parody.Rcheck Warnings: 0