Package: parody Version: 1.68.0 Command: /Library/Frameworks/R.framework/Resources/bin/R CMD build --keep-empty-dirs --no-resave-data parody StartedAt: 2025-10-31 17:22:00 -0400 (Fri, 31 Oct 2025) EndedAt: 2025-10-31 17:22:04 -0400 (Fri, 31 Oct 2025) EllapsedTime: 4.1 seconds RetCode: 0 Status: OK PackageFile: parody_1.68.0.tar.gz PackageFileSize: 481.1 KiB