Package: parglms Version: 1.41.0 Command: /home/biocbuild/R/R/bin/R CMD INSTALL parglms StartedAt: 2025-10-16 21:23:14 -0000 (Thu, 16 Oct 2025) EndedAt: 2025-10-16 21:23:20 -0000 (Thu, 16 Oct 2025) EllapsedTime: 5.5 seconds RetCode: 0 Status: OK