Package: parglms Version: 1.41.0 Command: /home/biocbuild/R/R/bin/R CMD build --keep-empty-dirs --no-resave-data parglms StartedAt: 2025-10-17 03:25:03 -0000 (Fri, 17 Oct 2025) EndedAt: 2025-10-17 03:25:21 -0000 (Fri, 17 Oct 2025) EllapsedTime: 17.0 seconds RetCode: 0 Status: OK PackageFile: parglms_1.41.0.tar.gz PackageFileSize: 258.8 KiB