Package: parglms Version: 1.41.0 Command: /home/biocbuild/bbs-3.22-bioc/R/bin/R CMD INSTALL parglms StartedAt: 2025-10-19 15:39:34 -0400 (Sun, 19 Oct 2025) EndedAt: 2025-10-19 15:39:38 -0400 (Sun, 19 Oct 2025) EllapsedTime: 3.8 seconds RetCode: 0 Status: OK