Package: parglms Version: 1.41.0 Command: /Library/Frameworks/R.framework/Resources/bin/R CMD INSTALL parglms StartedAt: 2025-10-19 15:15:38 -0400 (Sun, 19 Oct 2025) EndedAt: 2025-10-19 15:15:46 -0400 (Sun, 19 Oct 2025) EllapsedTime: 7.9 seconds RetCode: 0 Status: OK