Package: parglms Version: 1.41.0 Command: rm -rf parglms.buildbin-libdir && mkdir parglms.buildbin-libdir && /Users/biocbuild/BBS/utils/build-universal.sh parglms_1.41.0.tar.gz /Library/Frameworks/R.framework/Resources/bin/R parglms.buildbin-libdir StartedAt: 2025-10-18 03:13:03 -0400 (Sat, 18 Oct 2025) EndedAt: 2025-10-18 03:13:11 -0400 (Sat, 18 Oct 2025) EllapsedTime: 8.2 seconds RetCode: 0 Status: OK PackageFile: parglms_1.41.0.tgz PackageFileSize: 293.9 KiB