Package: parglms Version: 1.41.0 Command: /Library/Frameworks/R.framework/Resources/bin/R CMD INSTALL parglms StartedAt: 2025-10-17 15:19:58 -0400 (Fri, 17 Oct 2025) EndedAt: 2025-10-17 15:20:01 -0400 (Fri, 17 Oct 2025) EllapsedTime: 2.8 seconds RetCode: 0 Status: OK