Package: parglms Version: 1.41.0 Command: /Library/Frameworks/R.framework/Resources/bin/R CMD build --keep-empty-dirs --no-resave-data parglms StartedAt: 2025-10-19 17:16:08 -0400 (Sun, 19 Oct 2025) EndedAt: 2025-10-19 17:16:20 -0400 (Sun, 19 Oct 2025) EllapsedTime: 12.1 seconds RetCode: 0 Status: OK PackageFile: parglms_1.41.0.tar.gz PackageFileSize: 273.3 KiB