Package: panp Version: 1.80.0 Maintainer: Peter Warren MaintainerEmail: peter.warren at verizon.net git_url: https://git.bioconductor.org/packages/panp git_branch: RELEASE_3_22 git_last_commit: a031b51 git_last_commit_date: 2025-10-29 09:57:20 -0500 (Wed, 29 Oct 2025)