Package: pairkat Version: 1.15.0 Command: chmod a+r pairkat -R && F:\biocbuild\bbs-3.22-bioc\R\bin\R.exe CMD build --keep-empty-dirs --no-resave-data pairkat StartedAt: 2025-08-14 22:09:33 -0400 (Thu, 14 Aug 2025) EndedAt: 2025-08-14 22:14:16 -0400 (Thu, 14 Aug 2025) EllapsedTime: 282.4 seconds RetCode: 0 Status: OK PackageFile: pairkat_1.15.0.tar.gz PackageFileSize: 782.8 KiB